BEGIN:VCALENDAR
VERSION:2.0
PRODID:-//Scottish Libertarian Party - ECPv6.8.1//NONSGML v1.0//EN
CALSCALE:GREGORIAN
METHOD:PUBLISH
X-WR-CALNAME:Scottish Libertarian Party
X-ORIGINAL-URL:https://scottishlibertarians.com
X-WR-CALDESC:Events for Scottish Libertarian Party
REFRESH-INTERVAL;VALUE=DURATION:PT1H
X-Robots-Tag:noindex
X-PUBLISHED-TTL:PT1H
BEGIN:VTIMEZONE
TZID:UTC
BEGIN:STANDARD
TZOFFSETFROM:+0000
TZOFFSETTO:+0000
TZNAME:UTC
DTSTART:20250101T000000
END:STANDARD
END:VTIMEZONE
BEGIN:VEVENT
DTSTART;TZID=UTC:20250327T200000
DTEND;TZID=UTC:20250327T213000
DTSTAMP:20260423T205103
CREATED:20250324T215402Z
LAST-MODIFIED:20250324T215402Z
UID:5020-1743105600-1743111000@scottishlibertarians.com
SUMMARY:Online meeting
DESCRIPTION:Since it’s been a while\, let’s meet online and talk party business! \n  \nJoin Meeting:\nhttps://us02web.zoom.us/j/86383861178?pwd=HoI80k4MTNSoU3aNBUbJ2ax0VTbH3Y.1 \nOr from Zoom:\nMeeting ID: 863 8386 1178\nPasscode: 865802
URL:https://scottishlibertarians.com/event/online-meeting-6/
LOCATION:ONLINE\, ONLINE\, ONLINE\, United Kingdom
CATEGORIES:Scottish Libertarians on Tour
END:VEVENT
END:VCALENDAR